BEGIN:VCALENDAR
VERSION:2.0
PRODID:-//ChamberMaster//Event Calendar 2.0//EN
METHOD:PUBLISH
X-PUBLISHED-TTL:P3D
REFRESH-INTERVAL:P3D
CALSCALE:GREGORIAN
BEGIN:VEVENT
DTSTART:20240928T210000Z
DTEND:20240929T000000Z
X-MICROSOFT-CDO-ALLDAYEVENT:FALSE
SUMMARY:Corn Maze
DESCRIPTION:Join in the Fall Fun at Maybury Farm's Corn Maze. Take a wagon ride to and from our corn field\, transformed into a farm-themed maze design which includes a scavenger hunt! We have two mazes: a one-acre mini-maze for our youngest or novice visitors\, as well as a large\, challenging nine-acre maze! Afterward\, ride back to the farm to enjoy fresh cider and donuts\, farm animals and visit the General Store where war honey\, maple syrup and lots more is also available for purchase. The Corn Maze runs Friday evenings\, Saturdays and Sundays from late September through the end of October. (Maze will be closed Oct 4\, 5 and 6 during our annual Great Fall Festival)
X-ALT-DESC;FMTTYPE=text/html:Join in the Fall Fun at Maybury Farm&#39\;s Corn Maze. Take a wagon ride to and from our corn field\, transformed into a farm-themed maze design which includes a scavenger hunt! We have two mazes: a one-acre mini-maze for our youngest or novice visitors\, as well as a large\, challenging nine-acre maze! Afterward\, ride back to the farm to enjoy fresh cider and donuts\, farm animals and visit the General Store where war honey\, maple syrup and lots more is also available for purchase. The Corn Maze runs Friday evenings\, Saturdays and Sundays from late September through the end of October. (Maze will be closed Oct 4\, 5 and 6 during our annual Great Fall Festival)
LOCATION:Maybury Farms 50165 Eight Mile Rd
UID:e.3463.4946
SEQUENCE:3
DTSTAMP:20260424T065533Z
URL:http://northvillemi.chambermaster.com/events/details/corn-maze-4946
END:VEVENT

END:VCALENDAR
