BEGIN:VCALENDAR
VERSION:2.0
PRODID:-//ChamberMaster//Event Calendar 2.0//EN
METHOD:PUBLISH
X-PUBLISHED-TTL:P3D
REFRESH-INTERVAL:P3D
CALSCALE:GREGORIAN
BEGIN:VEVENT
DTSTART;VALUE=DATE:20191101
DTEND;VALUE=DATE:20191201
TRANSP:TRANSPARENT
X-MICROSOFT-CDO-ALLDAYEVENT:TRUE
SUMMARY:Military Banner Program
DESCRIPTION:Military Banners are placed throughtout downtown Northville during the entire month of November in honor of those that have served. Application and additional information on banners can be found at www.northville.org. Managed by the Northville Chamber of Commerce\, 195 S. Main Street\, Northville\, MI 48167 248-349-7640
X-ALT-DESC;FMTTYPE=text/html:Military Banners are placed throughtout downtown Northville during the entire month of November in honor of those that have served. Application and additional information on banners can be found at www.northville.org. Managed by the Northville Chamber of Commerce\, 195 S. Main Street\, Northville\, MI 48167 248-349-7640
LOCATION:Downtown Northville
UID:e.3463.140
SEQUENCE:3
DTSTAMP:20260420T062740Z
URL:http://northvillemi.chambermaster.com/events/details/military-banner-program-140
END:VEVENT

END:VCALENDAR
