BEGIN:VCALENDAR
VERSION:2.0
PRODID:-//ChamberMaster//Event Calendar 2.0//EN
METHOD:PUBLISH
X-PUBLISHED-TTL:P3D
REFRESH-INTERVAL:P3D
CALSCALE:GREGORIAN
BEGIN:VEVENT
DTSTART;VALUE=DATE:20190501
DTEND;VALUE=DATE:20190601
TRANSP:TRANSPARENT
X-MICROSOFT-CDO-ALLDAYEVENT:TRUE
SUMMARY:Military Banner Program
DESCRIPTION:Military Banners are placed throughtout downtown Northville during the entire month of May in honor of those that have served. Application and additional information on banners can be found at www.northville.org. Managed by the Northville Chamber of Commerce\, 195 S. Main Street\, Northville\, MI 48167 248-349-7640
X-ALT-DESC;FMTTYPE=text/html:Military Banners are placed throughtout downtown Northville during the entire month of May in honor of those that have served. Application and additional information on banners can be found at www.northville.org. Managed by the Northville Chamber of Commerce\, 195 S. Main Street\, Northville\, MI 48167 248-349-7640
LOCATION:Downtown Northville
UID:e.3463.25
SEQUENCE:3
DTSTAMP:20260423T165757Z
URL:http://northvillemi.chambermaster.com/events/details/military-banner-program-25
END:VEVENT

END:VCALENDAR
